BEGIN:VCALENDAR
VERSION:2.0
PRODID:researchseminars.org
CALSCALE:GREGORIAN
X-WR-CALNAME:researchseminars.org
BEGIN:VEVENT
SUMMARY:Cameron Gordon (UT Austin)
DTSTART:20210608T140000Z
DTEND:20210608T151500Z
DTSTAMP:20260423T024738Z
UID:rlgts/29
DESCRIPTION:Title: <a href="https://researchseminars.org/talk/rlgts/29/">T
 oroidal 3-manifolds and the properties in the L-space Conjecture</a>\nby C
 ameron Gordon (UT Austin) as part of Regensburg low-dimensional geometry a
 nd topology seminar\n\nAbstract: TBA\n
LOCATION:https://researchseminars.org/talk/rlgts/29/
END:VEVENT
END:VCALENDAR
