BEGIN:VCALENDAR
VERSION:2.0
PRODID:researchseminars.org
CALSCALE:GREGORIAN
X-WR-CALNAME:researchseminars.org
BEGIN:VEVENT
SUMMARY:Ciprian Manolescu (Stanford University)
DTSTART:20201208T150000Z
DTEND:20201208T161500Z
DTSTAMP:20260423T005837Z
UID:rlgts/16
DESCRIPTION:Title: <a href="https://researchseminars.org/talk/rlgts/16/">R
 elative genus bounds in indefinite four-manifolds</a>\nby Ciprian Manolesc
 u (Stanford University) as part of Regensburg low-dimensional geometry and
  topology seminar\n\nAbstract: TBA\n
LOCATION:https://researchseminars.org/talk/rlgts/16/
END:VEVENT
END:VCALENDAR
