BEGIN:VCALENDAR
VERSION:2.0
PRODID:researchseminars.org
CALSCALE:GREGORIAN
X-WR-CALNAME:researchseminars.org
BEGIN:VEVENT
SUMMARY:Marco Marengon (MPIM Bonn)
DTSTART:20201103T150000Z
DTEND:20201103T161500Z
DTSTAMP:20260423T041337Z
UID:rlgts/12
DESCRIPTION:Title: <a href="https://researchseminars.org/talk/rlgts/12/">N
 on-orientable knot cobordisms and torsion order in Floer homologies</a>\nb
 y Marco Marengon (MPIM Bonn) as part of Regensburg low-dimensional geometr
 y and topology seminar\n\nAbstract: TBA\n
LOCATION:https://researchseminars.org/talk/rlgts/12/
END:VEVENT
END:VCALENDAR
