BEGIN:VCALENDAR
VERSION:2.0
PRODID:researchseminars.org
CALSCALE:GREGORIAN
X-WR-CALNAME:researchseminars.org
BEGIN:VEVENT
SUMMARY:Timothy Kovachy (Northwestern University)
DTSTART:20210610T133000Z
DTEND:20210610T140000Z
DTSTAMP:20260423T024717Z
UID:qgem2021/22
DESCRIPTION:Title: <a href="https://researchseminars.org/talk/qgem2021/22/
 ">Probing gravity nonlocally with macroscopically delocalized atom interfe
 rometers</a>\nby Timothy Kovachy (Northwestern University) as part of Chal
 lenges for Witnessing Quantum Aspects of Gravity in a Lab\n\nAbstract: TBA
 \n
LOCATION:https://researchseminars.org/talk/qgem2021/22/
END:VEVENT
END:VCALENDAR
