BEGIN:VCALENDAR
VERSION:2.0
PRODID:researchseminars.org
CALSCALE:GREGORIAN
X-WR-CALNAME:researchseminars.org
BEGIN:VEVENT
SUMMARY:Markus Aspelmeyer (University of Vienna)
DTSTART:20210610T113000Z
DTEND:20210610T120000Z
DTSTAMP:20260423T024718Z
UID:qgem2021/19
DESCRIPTION:Title: <a href="https://researchseminars.org/talk/qgem2021/19/
 ">Gravitational coupling of microscopic source masses: challenges for futu
 re quantum Cavendish experiments</a>\nby Markus Aspelmeyer (University of 
 Vienna) as part of Challenges for Witnessing Quantum Aspects of Gravity in
  a Lab\n\nAbstract: TBA\n
LOCATION:https://researchseminars.org/talk/qgem2021/19/
END:VEVENT
END:VCALENDAR
