BEGIN:VCALENDAR
VERSION:2.0
PRODID:researchseminars.org
CALSCALE:GREGORIAN
X-WR-CALNAME:researchseminars.org
BEGIN:VEVENT
SUMMARY:Madalena Lemos 1 (WP) (Durham University\, UK)
DTSTART:20210705T190000Z
DTEND:20210705T203000Z
DTSTAMP:20260423T005808Z
UID:qftgrt/5
DESCRIPTION:Title: <a href="https://researchseminars.org/talk/qftgrt/5/">A
  mini-course on vertex operator algebras of N= 2 Superconformal Field Theo
 ries  (WP)</a>\nby Madalena Lemos 1 (WP) (Durham University\, UK) as part 
 of Quantum Fields\, Geometry and Representation Theory 2021\n\nAbstract: T
 BA\n
LOCATION:https://researchseminars.org/talk/qftgrt/5/
END:VEVENT
END:VCALENDAR
