BEGIN:VCALENDAR
VERSION:2.0
PRODID:researchseminars.org
CALSCALE:GREGORIAN
X-WR-CALNAME:researchseminars.org
BEGIN:VEVENT
SUMMARY:Edward Witten 4 (Institute for Advanced Study\, Princeton\, USA)
DTSTART:20210713T150000Z
DTEND:20210713T163000Z
DTSTAMP:20260423T005806Z
UID:qftgrt/39
DESCRIPTION:Title: <a href="https://researchseminars.org/talk/qftgrt/39/">
 Quantization\, Gauge Theory\, and the Analytic Approach to Geometric Langl
 ands 4</a>\nby Edward Witten 4 (Institute for Advanced Study\, Princeton\,
  USA) as part of Quantum Fields\, Geometry and Representation Theory 2021\
 n\nAbstract: TBA\n
LOCATION:https://researchseminars.org/talk/qftgrt/39/
END:VEVENT
END:VCALENDAR
