BEGIN:VCALENDAR
VERSION:2.0
PRODID:researchseminars.org
CALSCALE:GREGORIAN
X-WR-CALNAME:researchseminars.org
BEGIN:VEVENT
SUMMARY:Edward Witten 1 (WP) (Institute for Advanced Study\, Princeton\, U
 SA)
DTSTART:20210709T100000Z
DTEND:20210709T113000Z
DTSTAMP:20260423T024758Z
UID:qftgrt/25
DESCRIPTION:Title: <a href="https://researchseminars.org/talk/qftgrt/25/">
 Quantization\, Gauge Theory\, and the Analytic Approach to Geometric Langl
 ands 1 (WP)</a>\nby Edward Witten 1 (WP) (Institute for Advanced Study\, P
 rinceton\, USA) as part of Quantum Fields\, Geometry and Representation Th
 eory 2021\n\nAbstract: TBA\n
LOCATION:https://researchseminars.org/talk/qftgrt/25/
END:VEVENT
END:VCALENDAR
