BEGIN:VCALENDAR
VERSION:2.0
PRODID:researchseminars.org
CALSCALE:GREGORIAN
X-WR-CALNAME:researchseminars.org
BEGIN:VEVENT
SUMMARY:Jacques Hurtubise 1 (WP) (McGill University\, Canada)
DTSTART:20210709T053000Z
DTEND:20210709T070000Z
DTSTAMP:20260423T005750Z
UID:qftgrt/23
DESCRIPTION:Title: <a href="https://researchseminars.org/talk/qftgrt/23/">
 Geometry of the Hitchin integrable systems\, and some variations (WP)</a>\
 nby Jacques Hurtubise 1 (WP) (McGill University\, Canada) as part of Quant
 um Fields\, Geometry and Representation Theory 2021\n\nAbstract: TBA\n
LOCATION:https://researchseminars.org/talk/qftgrt/23/
END:VEVENT
END:VCALENDAR
