BEGIN:VCALENDAR
VERSION:2.0
PRODID:researchseminars.org
CALSCALE:GREGORIAN
X-WR-CALNAME:researchseminars.org
BEGIN:VEVENT
SUMMARY:Edward Witten 1 (Institute for Advanced Study\, Princeton\, USA)
DTSTART:20210708T150000Z
DTEND:20210708T163000Z
DTSTAMP:20260423T024800Z
UID:qftgrt/20
DESCRIPTION:Title: <a href="https://researchseminars.org/talk/qftgrt/20/">
 Quantization\, Gauge Theory\, and the Analytic Approach to Geometric Langl
 ands 1</a>\nby Edward Witten 1 (Institute for Advanced Study\, Princeton\,
  USA) as part of Quantum Fields\, Geometry and Representation Theory 2021\
 n\nAbstract: TBA\n
LOCATION:https://researchseminars.org/talk/qftgrt/20/
END:VEVENT
END:VCALENDAR
