BEGIN:VCALENDAR
VERSION:2.0
PRODID:researchseminars.org
CALSCALE:GREGORIAN
X-WR-CALNAME:researchseminars.org
BEGIN:VEVENT
SUMMARY:Jacques Hurtubise 1 (McGill University\, Canada)
DTSTART:20210707T163000Z
DTEND:20210707T180000Z
DTSTAMP:20260423T041622Z
UID:qftgrt/15
DESCRIPTION:Title: <a href="https://researchseminars.org/talk/qftgrt/15/">
 Geometry of the Hitchin integrable systems\, and some variations  1</a>\nb
 y Jacques Hurtubise 1 (McGill University\, Canada) as part of Quantum Fiel
 ds\, Geometry and Representation Theory 2021\n\nAbstract: TBA\n
LOCATION:https://researchseminars.org/talk/qftgrt/15/
END:VEVENT
END:VCALENDAR
