BEGIN:VCALENDAR
VERSION:2.0
PRODID:researchseminars.org
CALSCALE:GREGORIAN
X-WR-CALNAME:researchseminars.org
BEGIN:VEVENT
SUMMARY:Andrew Sills (Georgia Southern University)
DTSTART:20201005T233000Z
DTEND:20201006T003000Z
DTSTAMP:20260423T021753Z
UID:q2020/2
DESCRIPTION:Title: <a href="https://researchseminars.org/talk/q2020/2/">A 
 SURVEY OF ROGERS--RAMANUJAN TYPE IDENTITIES</a>\nby Andrew Sills (Georgia 
 Southern University) as part of A workshop on q-series\, quantum modular f
 orms and representation theory\n\nAbstract: TBA\n
LOCATION:https://researchseminars.org/talk/q2020/2/
END:VEVENT
END:VCALENDAR
