BEGIN:VCALENDAR
VERSION:2.0
PRODID:researchseminars.org
CALSCALE:GREGORIAN
X-WR-CALNAME:researchseminars.org
BEGIN:VEVENT
SUMMARY:Sarah Peluse‬ (Princeton University/IAS)
DTSTART:20210426T190000Z
DTEND:20210426T200000Z
DTSTAMP:20260423T021337Z
UID:paw/26
DESCRIPTION:Title: <a href="https://researchseminars.org/talk/paw/26/">On 
 the polynomial Szemer\\'edi theorem and related results</a>\nby Sarah Pelu
 se‬ (Princeton University/IAS) as part of Probability and Analysis Webin
 ar\n\n\nAbstract\nIn this talk\, I'll survey recent progress on problems i
 n additive combinatorics\, harmonic analysis\, and ergodic theory related 
 to Bergelson and Leibman's polynomial generalization of Szemer\\'edi's the
 orem.\n
LOCATION:https://researchseminars.org/talk/paw/26/
END:VEVENT
END:VCALENDAR
