BEGIN:VCALENDAR
VERSION:2.0
PRODID:researchseminars.org
CALSCALE:GREGORIAN
X-WR-CALNAME:researchseminars.org
BEGIN:VEVENT
SUMMARY:Piotr Nayar (University of Warsaw\, Poland)
DTSTART:20200907T190000Z
DTEND:20200907T200000Z
DTSTAMP:20260423T021336Z
UID:paw/10
DESCRIPTION:Title: <a href="https://researchseminars.org/talk/paw/10/">Sha
 rp variance-entropy comparison for Gaussian quadratic forms</a>\nby Piotr 
 Nayar (University of Warsaw\, Poland) as part of Probability and Analysis 
 Webinar\n\nAbstract: TBA\n
LOCATION:https://researchseminars.org/talk/paw/10/
END:VEVENT
END:VCALENDAR
