BEGIN:VCALENDAR
VERSION:2.0
PRODID:researchseminars.org
CALSCALE:GREGORIAN
X-WR-CALNAME:researchseminars.org
BEGIN:VEVENT
SUMMARY:Elchanan Mossel (MIT)
DTSTART:20200714T160000Z
DTEND:20200714T170000Z
DTSTAMP:20260423T035057Z
UID:oops/37
DESCRIPTION:Title: <a href="https://researchseminars.org/talk/oops/37/">Si
 mplicity and Complexity in Belief Propagation</a>\nby Elchanan Mossel (MIT
 ) as part of Online open probability school\n\nAbstract: TBA\n
LOCATION:https://researchseminars.org/talk/oops/37/
END:VEVENT
END:VCALENDAR
