BEGIN:VCALENDAR
VERSION:2.0
PRODID:researchseminars.org
CALSCALE:GREGORIAN
X-WR-CALNAME:researchseminars.org
BEGIN:VEVENT
SUMMARY:Andrea Montanari (Stanford University)
DTSTART:20200707T160000Z
DTEND:20200707T170000Z
DTSTAMP:20260423T035052Z
UID:oops/31
DESCRIPTION:Title: <a href="https://researchseminars.org/talk/oops/31/">Me
 an field methods in high-dimensional statistics and nonconvex optimization
 </a>\nby Andrea Montanari (Stanford University) as part of Online open pro
 bability school\n\nAbstract: TBA\n
LOCATION:https://researchseminars.org/talk/oops/31/
END:VEVENT
END:VCALENDAR
