BEGIN:VCALENDAR
VERSION:2.0
PRODID:researchseminars.org
CALSCALE:GREGORIAN
X-WR-CALNAME:researchseminars.org
BEGIN:VEVENT
SUMMARY:Sourav Sarkar (University of Toronto)
DTSTART:20200612T171000Z
DTEND:20200612T173000Z
DTSTAMP:20260423T035051Z
UID:oops/22
DESCRIPTION:Title: <a href="https://researchseminars.org/talk/oops/22/">Br
 ownian absolute continuity of the KPZ fixed point with arbitrary initial c
 ondition</a>\nby Sourav Sarkar (University of Toronto) as part of Online o
 pen probability school\n\nAbstract: TBA\n
LOCATION:https://researchseminars.org/talk/oops/22/
END:VEVENT
END:VCALENDAR
