BEGIN:VCALENDAR
VERSION:2.0
PRODID:researchseminars.org
CALSCALE:GREGORIAN
X-WR-CALNAME:researchseminars.org
BEGIN:VEVENT
SUMMARY:Dario Prandi (L2S\, CNRS\, CentraleSupelec\, Paris-Saclay)
DTSTART:20210114T131500Z
DTEND:20210114T141500Z
DTSTAMP:20260423T021349Z
UID:olana/7
DESCRIPTION:Title: <a href="https://researchseminars.org/talk/olana/7/">Po
 int interactions for 3D sub-Laplacians</a>\nby Dario Prandi (L2S\, CNRS\, 
 CentraleSupelec\, Paris-Saclay) as part of Oldenburg analysis seminar\n\nA
 bstract: TBA\n
LOCATION:https://researchseminars.org/talk/olana/7/
END:VEVENT
END:VCALENDAR
