BEGIN:VCALENDAR
VERSION:2.0
PRODID:researchseminars.org
CALSCALE:GREGORIAN
X-WR-CALNAME:researchseminars.org
BEGIN:VEVENT
SUMMARY:Fedor Bakharev (St.-Petersburg)
DTSTART:20201210T131500Z
DTEND:20201210T141500Z
DTSTAMP:20260423T021347Z
UID:olana/4
DESCRIPTION:Title: <a href="https://researchseminars.org/talk/olana/4/">Ex
 istence of the discrete spectrum of Dirichlet Laplacian in some unbounded 
 domains</a>\nby Fedor Bakharev (St.-Petersburg) as part of Oldenburg analy
 sis seminar\n\nAbstract: TBA\n
LOCATION:https://researchseminars.org/talk/olana/4/
END:VEVENT
END:VCALENDAR
