BEGIN:VCALENDAR
VERSION:2.0
PRODID:researchseminars.org
CALSCALE:GREGORIAN
X-WR-CALNAME:researchseminars.org
BEGIN:VEVENT
SUMMARY:Mohammad Talebi (Oldenburg)
DTSTART:20201126T131500Z
DTEND:20201126T141500Z
DTSTAMP:20260423T021451Z
UID:olana/2
DESCRIPTION:Title: <a href="https://researchseminars.org/talk/olana/2/">Sp
 ectral geometry on manifolds with fibered boundary</a>\nby Mohammad Talebi
  (Oldenburg) as part of Oldenburg analysis seminar\n\nAbstract: TBA\n
LOCATION:https://researchseminars.org/talk/olana/2/
END:VEVENT
END:VCALENDAR
