BEGIN:VCALENDAR
VERSION:2.0
PRODID:researchseminars.org
CALSCALE:GREGORIAN
X-WR-CALNAME:researchseminars.org
BEGIN:VEVENT
SUMMARY:Malte Behr (Oldenburg)
DTSTART:20210121T140000Z
DTEND:20210121T150000Z
DTSTAMP:20260423T021326Z
UID:olana/11
DESCRIPTION:Title: <a href="https://researchseminars.org/talk/olana/11/">Q
 uasihomogeneous blow-ups and pseudodifferential calculus on SL(n\,R)</a>\n
 by Malte Behr (Oldenburg) as part of Oldenburg analysis seminar\n\nAbstrac
 t: TBA\n
LOCATION:https://researchseminars.org/talk/olana/11/
END:VEVENT
END:VCALENDAR
