BEGIN:VCALENDAR
VERSION:2.0
PRODID:researchseminars.org
CALSCALE:GREGORIAN
X-WR-CALNAME:researchseminars.org
BEGIN:VEVENT
SUMMARY:Gino Biondini (SUNY Buffalo)
DTSTART:20210329T163000Z
DTEND:20210329T173000Z
DTSTAMP:20260423T040115Z
UID:nwcs2020/8
DESCRIPTION:Title: <a href="https://researchseminars.org/talk/nwcs2020/8/"
 >Time evolution problems for (2+1)-dimensional evolution equations: Whitha
 m modulation theory and its applications</a>\nby Gino Biondini (SUNY Buffa
 lo) as part of Nonlinear Waves and Coherent Structures Webinar Series\n\nA
 bstract: TBA\n
LOCATION:https://researchseminars.org/talk/nwcs2020/8/
END:VEVENT
END:VCALENDAR
