BEGIN:VCALENDAR
VERSION:2.0
PRODID:researchseminars.org
CALSCALE:GREGORIAN
X-WR-CALNAME:researchseminars.org
BEGIN:VEVENT
SUMMARY:Bernard Deconinck (University of Washington)
DTSTART:20230613T160000Z
DTEND:20230613T170000Z
DTSTAMP:20260423T023941Z
UID:nwcs2020/42
DESCRIPTION:Title: <a href="https://researchseminars.org/talk/nwcs2020/42/
 ">The instabilities of Stokes Waves</a>\nby Bernard Deconinck (University 
 of Washington) as part of Nonlinear Waves and Coherent Structures Webinar 
 Series\n\nAbstract: TBA\n
LOCATION:https://researchseminars.org/talk/nwcs2020/42/
END:VEVENT
END:VCALENDAR
