BEGIN:VCALENDAR
VERSION:2.0
PRODID:researchseminars.org
CALSCALE:GREGORIAN
X-WR-CALNAME:researchseminars.org
BEGIN:VEVENT
SUMMARY:Peter Bates (Michigan State University)
DTSTART:20230308T170000Z
DTEND:20230308T180000Z
DTSTAMP:20260423T005710Z
UID:nwcs2020/39
DESCRIPTION:Title: <a href="https://researchseminars.org/talk/nwcs2020/39/
 ">Existence and Persistence of Invariant Manifolds for PDE's and SPDE's</a
 >\nby Peter Bates (Michigan State University) as part of Nonlinear Waves a
 nd Coherent Structures Webinar Series\n\nAbstract: TBA\n
LOCATION:https://researchseminars.org/talk/nwcs2020/39/
END:VEVENT
END:VCALENDAR
