BEGIN:VCALENDAR
VERSION:2.0
PRODID:researchseminars.org
CALSCALE:GREGORIAN
X-WR-CALNAME:researchseminars.org
BEGIN:VEVENT
SUMMARY:Mariana Haragus (Université de Franche-Comté)
DTSTART:20221214T170000Z
DTEND:20221214T180000Z
DTSTAMP:20260423T040217Z
UID:nwcs2020/36
DESCRIPTION:Title: <a href="https://researchseminars.org/talk/nwcs2020/36/
 ">Transverse dynamics of line periodic water waves</a>\nby Mariana Haragus
  (Université de Franche-Comté) as part of Nonlinear Waves and Coherent S
 tructures Webinar Series\n\nAbstract: TBA\n
LOCATION:https://researchseminars.org/talk/nwcs2020/36/
END:VEVENT
END:VCALENDAR
