BEGIN:VCALENDAR
VERSION:2.0
PRODID:researchseminars.org
CALSCALE:GREGORIAN
X-WR-CALNAME:researchseminars.org
BEGIN:VEVENT
SUMMARY:Jianke Yang (University of Vermont)
DTSTART:20220111T173000Z
DTEND:20220111T183000Z
DTSTAMP:20260423T024651Z
UID:nwcs2020/22
DESCRIPTION:Title: <a href="https://researchseminars.org/talk/nwcs2020/22/
 ">Pattern Formation in KP-I Lumps</a>\nby Jianke Yang (University of Vermo
 nt) as part of Nonlinear Waves and Coherent Structures Webinar Series\n\nA
 bstract: TBA\n
LOCATION:https://researchseminars.org/talk/nwcs2020/22/
END:VEVENT
END:VCALENDAR
