BEGIN:VCALENDAR
VERSION:2.0
PRODID:researchseminars.org
CALSCALE:GREGORIAN
X-WR-CALNAME:researchseminars.org
BEGIN:VEVENT
SUMMARY:Edgar Knobloch (UC Berkeley)
DTSTART:20210215T173000Z
DTEND:20210215T183000Z
DTSTAMP:20260423T024613Z
UID:nwcs2020/11
DESCRIPTION:Title: <a href="https://researchseminars.org/talk/nwcs2020/11/
 ">Geostrophic turbulence and the formation of large scale structure</a>\nb
 y Edgar Knobloch (UC Berkeley) as part of Nonlinear Waves and Coherent Str
 uctures Webinar Series\n\nAbstract: TBA\n
LOCATION:https://researchseminars.org/talk/nwcs2020/11/
END:VEVENT
END:VCALENDAR
