BEGIN:VCALENDAR
VERSION:2.0
PRODID:researchseminars.org
CALSCALE:GREGORIAN
X-WR-CALNAME:researchseminars.org
BEGIN:VEVENT
SUMMARY:Shrawan Kumar (UNC (Chapel Hill))
DTSTART:20210712T163000Z
DTEND:20210712T180000Z
DTSTAMP:20260423T024649Z
UID:nsevent/4
DESCRIPTION:Title: <a href="https://researchseminars.org/talk/nsevent/4/">
 Conformal blocks for Galois covers of algebraic curve</a>\nby Shrawan Kuma
 r (UNC (Chapel Hill)) as part of Special Event in honor of Narasimhan and 
 Seshadri\n\nAbstract: TBA\n
LOCATION:https://researchseminars.org/talk/nsevent/4/
END:VEVENT
END:VCALENDAR
