BEGIN:VCALENDAR
VERSION:2.0
PRODID:researchseminars.org
CALSCALE:GREGORIAN
X-WR-CALNAME:researchseminars.org
BEGIN:VEVENT
SUMMARY:Giuliano Gagliardi (Hannover and MPI Bonn)
DTSTART:20200604T123000Z
DTEND:20200604T133000Z
DTSTAMP:20260423T041354Z
UID:notts_ag/9
DESCRIPTION:Title: <a href="https://researchseminars.org/talk/notts_ag/9/"
 >The Manin-Peyre conjecture for smooth spherical Fano varieties of semisim
 ple rank one</a>\nby Giuliano Gagliardi (Hannover and MPI Bonn) as part of
  Online Nottingham algebraic geometry seminar\n\n\nAbstract\nThe Manin-Pey
 re conjecture is established for a class of smooth spherical Fano varietie
 s of semisimple rank one. This includes all smooth spherical Fano threefol
 ds of type T as well as some higher-dimensional smooth spherical Fano vari
 eties.\n\nJoint work with Valentin Blomer\, Jörg Brüdern\, and Ulrich De
 renthal.\n
LOCATION:https://researchseminars.org/talk/notts_ag/9/
END:VEVENT
END:VCALENDAR
