BEGIN:VCALENDAR
VERSION:2.0
PRODID:researchseminars.org
CALSCALE:GREGORIAN
X-WR-CALNAME:researchseminars.org
BEGIN:VEVENT
SUMMARY:Matthias Nickel (Frankfurt)
DTSTART:20210729T130000Z
DTEND:20210729T140000Z
DTSTAMP:20260423T005801Z
UID:notts_ag/70
DESCRIPTION:Title: <a href="https://researchseminars.org/talk/notts_ag/70/
 ">Local positivity and effective Diophantine approximation</a>\nby Matthia
 s Nickel (Frankfurt) as part of Online Nottingham algebraic geometry semin
 ar\n\n\nAbstract\nIn this talk I will discuss a new approach to prove effe
 ctive results in Diophantine approximation relying on lower bounds of Sesh
 adri constants. I will then show how to use it to prove an effective theor
 em on the simultaneous approximation of two algebraic numbers satisfying a
 n algebraic equation.\n
LOCATION:https://researchseminars.org/talk/notts_ag/70/
END:VEVENT
END:VCALENDAR
