BEGIN:VCALENDAR
VERSION:2.0
PRODID:researchseminars.org
CALSCALE:GREGORIAN
X-WR-CALNAME:researchseminars.org
BEGIN:VEVENT
SUMMARY:Taro Sano (Kobe)
DTSTART:20210318T100000Z
DTEND:20210318T110000Z
DTSTAMP:20260423T024728Z
UID:notts_ag/49
DESCRIPTION:Title: <a href="https://researchseminars.org/talk/notts_ag/49/
 ">Construction of non-Kähler Calabi-Yau manifolds by log deformations</a>
 \nby Taro Sano (Kobe) as part of Online Nottingham algebraic geometry semi
 nar\n\n\nAbstract\nCalabi-Yau manifolds (in the strict sense) form an impo
 rtant class in the classification of algebraic varieties. One can also con
 sider its generalisation by removing the projectivity assumption. It was p
 reviously known that there are infinitely many topological types of non-K
 ähler Calabi-Yau 3-folds. In this talk\, I will present construction of s
 uch examples in higher dimensions by smoothing normal crossing varieties. 
 The key tools of the construction are some isomorphisms between general ra
 tional elliptic surfaces which induce isomorphisms between Calabi-Yau mani
 folds of Schoen type.\n
LOCATION:https://researchseminars.org/talk/notts_ag/49/
END:VEVENT
END:VCALENDAR
