BEGIN:VCALENDAR
VERSION:2.0
PRODID:researchseminars.org
CALSCALE:GREGORIAN
X-WR-CALNAME:researchseminars.org
BEGIN:VEVENT
SUMMARY:Miguel Tierz
DTSTART:20200909T080000Z
DTEND:20200909T090000Z
DTSTAMP:20260423T004549Z
UID:none/8
DESCRIPTION:Title: <a href="https://researchseminars.org/talk/none/8/">Pha
 se transitions\, random matrices and T\\bar{T} deformation</a>\nby Miguel 
 Tierz as part of Black Holes: BPS\, BMS & Integrability\n\nLecture held in
  Room 310 in The Mathematics Pavilion.\nAbstract: TBA\n
LOCATION:https://researchseminars.org/talk/none/8/
END:VEVENT
END:VCALENDAR
