BEGIN:VCALENDAR
VERSION:2.0
PRODID:researchseminars.org
CALSCALE:GREGORIAN
X-WR-CALNAME:researchseminars.org
BEGIN:VEVENT
SUMMARY:Alejandra Castro
DTSTART:20200908T080000Z
DTEND:20200908T090000Z
DTSTAMP:20260423T004551Z
UID:none/5
DESCRIPTION:Title: <a href="https://researchseminars.org/talk/none/5/">The
  Holographic Landscape of Symmetric Product Orbifolds</a>\nby Alejandra Ca
 stro as part of Black Holes: BPS\, BMS & Integrability\n\nLecture held in 
 Room 310 in The Mathematics Pavilion.\nAbstract: TBA\n
LOCATION:https://researchseminars.org/talk/none/5/
END:VEVENT
END:VCALENDAR
