BEGIN:VCALENDAR
VERSION:2.0
PRODID:researchseminars.org
CALSCALE:GREGORIAN
X-WR-CALNAME:researchseminars.org
BEGIN:VEVENT
SUMMARY:Boris Pioline
DTSTART:20200910T141500Z
DTEND:20200910T151500Z
DTSTAMP:20260423T004701Z
UID:none/15
DESCRIPTION:Title: <a href="https://researchseminars.org/talk/none/15/">BP
 S indices\, Vafa-Witten invariants and quivers</a>\nby Boris Pioline as pa
 rt of Black Holes: BPS\, BMS & Integrability\n\nLecture held in Room 310 i
 n The Mathematics Pavilion.\nAbstract: TBA\n
LOCATION:https://researchseminars.org/talk/none/15/
END:VEVENT
END:VCALENDAR
