BEGIN:VCALENDAR
VERSION:2.0
PRODID:researchseminars.org
CALSCALE:GREGORIAN
X-WR-CALNAME:researchseminars.org
BEGIN:VEVENT
SUMMARY:Johanna Erdmenger (Julius Maximilian University Würzburg)
DTSTART:20230425T183000Z
DTEND:20230425T193000Z
DTSTAMP:20260423T004756Z
UID:nhetc/64
DESCRIPTION:Title: <a href="https://researchseminars.org/talk/nhetc/64/">D
 iscrete Holography</a>\nby Johanna Erdmenger (Julius Maximilian University
  Würzburg) as part of NHETC Seminar\n\n\nAbstract\nI will review recent p
 rogress towards establishing a holographic duality for discrete spaces inv
 olving a regular tiling of hyperbolic space. In particular\, I will presen
 t a recent example where an aperiodic XXZ spin chain is obtained naturally
  by extrapolating the bulk tiling to its boundary. The properties of this 
 model are studied using RG techniques\, which provide a tensor network con
 struction for its ground state. We calculate and compare the entanglement 
 entropy both at the boundary and in the bulk. I will comment on the symmet
 ries of the construction and on the next steps towards obtaining a full dy
 namical duality of discrete systems. In particular\, this may be useful fo
 r going beyond the large N limit on the gravity side.\n\n Based on  arXiv 
 2205.05693\, 2205.05081 and 2212.11292.\n
LOCATION:https://researchseminars.org/talk/nhetc/64/
END:VEVENT
END:VCALENDAR
