BEGIN:VCALENDAR
VERSION:2.0
PRODID:researchseminars.org
CALSCALE:GREGORIAN
X-WR-CALNAME:researchseminars.org
BEGIN:VEVENT
SUMMARY:Ibrahima Bah (Johns Hopkins University)
DTSTART:20201027T190000Z
DTEND:20201027T200000Z
DTSTAMP:20260423T024517Z
UID:nhetc/3
DESCRIPTION:Title: <a href="https://researchseminars.org/talk/nhetc/3/">An
 omaly Inflow and topological mass terms</a>\nby Ibrahima Bah (Johns Hopkin
 s University) as part of NHETC Seminar\n\n\nAbstract\nIn this talk I will 
 discuss the role of topological mass terms in anomaly inflow.  I will cons
 ider QFTs obtained from brane setups in supergravity and discuss how the p
 resence of bulk topological mass terms are responsible for several interes
 ting features of the anomaly for the QFTs.  In particular I will discuss h
 ow these terms encode the anomalies for discrete symmetries.\n
LOCATION:https://researchseminars.org/talk/nhetc/3/
END:VEVENT
END:VCALENDAR
