BEGIN:VCALENDAR
VERSION:2.0
PRODID:researchseminars.org
CALSCALE:GREGORIAN
X-WR-CALNAME:researchseminars.org
BEGIN:VEVENT
SUMMARY:Iñaki Garcia-Etxebarria (Durham\, UK)
DTSTART:20240402T183000Z
DTEND:20240402T193000Z
DTSTAMP:20260423T022743Z
UID:nhetc/106
DESCRIPTION:Title: <a href="https://researchseminars.org/talk/nhetc/106/">
 Deriving SymTFTs from geometry</a>\nby Iñaki Garcia-Etxebarria (Durham\, 
 UK) as part of NHETC Seminar\n\n\nAbstract\nSymTFTs (or\, relatedly\, the 
 "sandwich construction") have emerged recently as a useful way to think of
  categorical symmetries. I will give a brief description of this construct
 ion\, and then review recent work on how to obtain the SymTFT data from ge
 ometry in the context of geometric engineering.\n
LOCATION:https://researchseminars.org/talk/nhetc/106/
END:VEVENT
END:VCALENDAR
