BEGIN:VCALENDAR
VERSION:2.0
PRODID:researchseminars.org
CALSCALE:GREGORIAN
X-WR-CALNAME:researchseminars.org
BEGIN:VEVENT
SUMMARY:Sophia Han (UC Berkeley/Ohio University)
DTSTART:20200623T203000Z
DTEND:20200623T210000Z
DTSTAMP:20260423T021420Z
UID:n3as/5
DESCRIPTION:Title: <a href="https://researchseminars.org/talk/n3as/5/">On 
 the minimum radius of very massive neutron stars</a>\nby Sophia Han (UC Be
 rkeley/Ohio University) as part of N3AS Zoom Seminar\n\nAbstract: TBA\n
LOCATION:https://researchseminars.org/talk/n3as/5/
END:VEVENT
END:VCALENDAR
