BEGIN:VCALENDAR
VERSION:2.0
PRODID:researchseminars.org
CALSCALE:GREGORIAN
X-WR-CALNAME:researchseminars.org
BEGIN:VEVENT
SUMMARY:Steven Harris (INT)
DTSTART:20210427T190000Z
DTEND:20210427T193000Z
DTSTAMP:20260423T040623Z
UID:n3as/28
DESCRIPTION:Title: <a href="https://researchseminars.org/talk/n3as/28/">Ax
 ion production in magnetars</a>\nby Steven Harris (INT) as part of N3AS Zo
 om Seminar\n\nAbstract: TBA\n
LOCATION:https://researchseminars.org/talk/n3as/28/
END:VEVENT
END:VCALENDAR
