BEGIN:VCALENDAR
VERSION:2.0
PRODID:researchseminars.org
CALSCALE:GREGORIAN
X-WR-CALNAME:researchseminars.org
BEGIN:VEVENT
SUMMARY:Katherine Mack (North Carolina State University)
DTSTART:20201117T213000Z
DTEND:20201117T220000Z
DTSTAMP:20260423T005840Z
UID:n3as/20
DESCRIPTION:Title: <a href="https://researchseminars.org/talk/n3as/20/">Da
 rk Matter: A Cosmological Perspective</a>\nby Katherine Mack (North Caroli
 na State University) as part of N3AS Zoom Seminar\n\nAbstract: TBA\n
LOCATION:https://researchseminars.org/talk/n3as/20/
END:VEVENT
END:VCALENDAR
