BEGIN:VCALENDAR
VERSION:2.0
PRODID:researchseminars.org
CALSCALE:GREGORIAN
X-WR-CALNAME:researchseminars.org
BEGIN:VEVENT
SUMMARY:Alexey Basalaev (Skolkovo Institute of Science and Technology\, Mo
 scow.)
DTSTART:20200527T030000Z
DTEND:20200527T043000Z
DTSTAMP:20260423T035541Z
UID:moduli/5
DESCRIPTION:Title: <a href="https://researchseminars.org/talk/moduli/5/">F
 JRW theories of simple-elliptic singularities</a>\nby Alexey Basalaev (Sko
 lkovo Institute of Science and Technology\, Moscow.) as part of Moduli spa
 ces seminar\n\n\nAbstract\nGiven a hypersurface singularity f together wit
 h some group of symmetries G\, FJRW theory produces the so-called A-side L
 andau-Ginzburg model.  From the perspective of mirror symmetry this is an
  A-side CohFT built by a pair (f\,G).  Mirror symmetry conjectures that i
 t is isomorphic to a B-side CohFT of another pair (f'\,G') after a good ch
 oice of a primitive form.\n\nIn this talk we will review FJRW theories of 
 simple-elliptic singularities and provide the Frobenius manifold potential
 s of them. We will also present the CY/LG correspondence result\, connecti
 ng such FJRW theories with Gromov-Witten theories of elliptic orbifolds.\n
 \nNote unusual time.\n
LOCATION:https://researchseminars.org/talk/moduli/5/
END:VEVENT
END:VCALENDAR
