BEGIN:VCALENDAR
VERSION:2.0
PRODID:researchseminars.org
CALSCALE:GREGORIAN
X-WR-CALNAME:researchseminars.org
BEGIN:VEVENT
SUMMARY:David Ridout (University of Melbourne)
DTSTART:20200513T010000Z
DTEND:20200513T023000Z
DTSTAMP:20260423T035411Z
UID:moduli/3
DESCRIPTION:Title: <a href="https://researchseminars.org/talk/moduli/3/">C
 FT\, BCFT\, VOA and all that.</a>\nby David Ridout (University of Melbourn
 e) as part of Moduli spaces seminar\n\n\nAbstract\nFollowing on from Johan
 na Knapp's April 29 talk\, I will discuss some of the aspects of conformal
  field theory (CFT) that are important for the LG/CFT correspondence.  Thi
 s includes vertex operator algebras (VOAs)\, rationality\, the Verlinde fo
 rmula and the corresponding Frobenius algebra\, boundary conformal field t
 heory (BCFT) and Ishibashi/Cardy states. Throughout\, the main example wil
 l be the CFT corresponding to the A-type singularity with $W=x^d$.\n
LOCATION:https://researchseminars.org/talk/moduli/3/
END:VEVENT
END:VCALENDAR
