BEGIN:VCALENDAR
VERSION:2.0
PRODID:researchseminars.org
CALSCALE:GREGORIAN
X-WR-CALNAME:researchseminars.org
BEGIN:VEVENT
SUMMARY:Kazushi Ueda (University of Tokyo)
DTSTART:20200506T010000Z
DTEND:20200506T023000Z
DTSTAMP:20260423T021046Z
UID:moduli/2
DESCRIPTION:Title: <a href="https://researchseminars.org/talk/moduli/2/">M
 atrix factorizations and mirror symmetry</a>\nby Kazushi Ueda (University 
 of Tokyo) as part of Moduli spaces seminar\n\n\nAbstract\nHomological mirr
 or symmetry is a conjecture introduced by Kontsevich which relates the Fuk
 aya category of a symplectic manifold with the derived category of coheren
 t sheaves on its mirror.  When the symplectic manifold is not Calabi-Yau\,
  the mirror is often described by matrix factorizations.  In the talk\, I 
 will discuss a joint work with Yanki Lekili on homological mirror symmetry
  for Milnor fibers of invertible polynomials.\n
LOCATION:https://researchseminars.org/talk/moduli/2/
END:VEVENT
END:VCALENDAR
