BEGIN:VCALENDAR
VERSION:2.0
PRODID:researchseminars.org
CALSCALE:GREGORIAN
X-WR-CALNAME:researchseminars.org
BEGIN:VEVENT
SUMMARY:O. V. Kaptsov
DTSTART:20241114T110000Z
DTEND:20241114T120000Z
DTSTAMP:20260423T021328Z
UID:mmandim/82
DESCRIPTION:Title: <a href="https://researchseminars.org/talk/mmandim/82/"
 >Integration  of acoustic wave equations  for inhomogeneous media</a>\nby 
 O. V. Kaptsov as part of Mathematical models and integration methods\n\n\n
 Abstract\nWe obtain exact solutions of the acoustic wave equations for inh
 omogeneous media. Two methods for integrating these equations are proposed
 . The first one is based on the of the Laplace cascade method\, while the 
 second method involves reducing two-dimensional and three-dimensional mode
 ls to the wave equation. In the case of plane waves\, we find new solution
 s  depending on two arbitrary functions. These solutions generalize the cl
 assical ones obtained by Euler. In the two-dimensional and three-dimension
 al cases\, equations that can be reduced to equations with constant coeffi
 cients are found.\n
LOCATION:https://researchseminars.org/talk/mmandim/82/
END:VEVENT
END:VCALENDAR
