BEGIN:VCALENDAR
VERSION:2.0
PRODID:researchseminars.org
CALSCALE:GREGORIAN
X-WR-CALNAME:researchseminars.org
BEGIN:VEVENT
SUMMARY:Nikolay Makarenko (Lavrentyev Institute of Hydrodynamics\, Novosib
 irsk\, Russia)
DTSTART:20220929T110000Z
DTEND:20220929T120000Z
DTSTAMP:20260423T021325Z
UID:mmandim/43
DESCRIPTION:Title: <a href="https://researchseminars.org/talk/mmandim/43/"
 >Nonlinear stationary internal waves in a weakly stratified fluid</a>\nby 
 Nikolay Makarenko (Lavrentyev Institute of Hydrodynamics\, Novosibirsk\, R
 ussia) as part of Mathematical models and integration methods\n\n\nAbstrac
 t\nWe consider three classes of problems related to the construction and a
 nalysis of asymptotic solutions of the Euler equations for an inviscid inh
 omogeneous fluid.\n\n1. Stationary solutions such as solitary- and periodi
 c waves in a continuously stratified fluid\, and their limiting regimes\n\
 n2. Parametric families of solutions of the 2.5-layer model of nonlinear l
 ong waves and their applications in oceanology\n\n3. Stationary wave struc
 tures and trapped solitary waves over an uneven bottom\n
LOCATION:https://researchseminars.org/talk/mmandim/43/
END:VEVENT
END:VCALENDAR
