BEGIN:VCALENDAR
VERSION:2.0
PRODID:researchseminars.org
CALSCALE:GREGORIAN
X-WR-CALNAME:researchseminars.org
BEGIN:VEVENT
SUMMARY:С.В. Хабиров
DTSTART:20210422T110000Z
DTEND:20210422T120000Z
DTSTAMP:20260423T040114Z
UID:mmandim/21
DESCRIPTION:Title: <a href="https://researchseminars.org/talk/mmandim/21/"
 >Стационарная плоская вихревая подмодел
 ь идеального газа</a>\nby С.В. Хабиров as part of 
 Mathematical models and integration methods\n\n\nAbstract\nПодмоде
 ль идеального газа\, инвариантная относи
 тельно переносов по времени и по одному 
 пространственному направлению в случае 
 вихревых движений имеет 4 интеграла. Для 
 функции тока и удельного объема получен
 а система нелинейных дифференциальных у
 равнений 3-го порядка с одним произвольн
 ым элементом\, включающим в себя уравнен
 ие состояния и произвольные функции инт
 егралов. Найдены преобразования эквивал
 ентности по произвольному элементу. Реш
 ена задача групповой классификации. Пол
 учена оптимальная система неподобных по
 далгебр для алгебр из групповой классиф
 икации. Рассмотрены примеры инвариантны
 х решений\, описывающие вихревые движени
 я газа с переменной энтропией\, в том чис
 ле точечный источник или сток. На двумер
 ных подалгебрах получены аналоги просты
 х волн.\n
LOCATION:https://researchseminars.org/talk/mmandim/21/
END:VEVENT
END:VCALENDAR
