BEGIN:VCALENDAR
VERSION:2.0
PRODID:researchseminars.org
CALSCALE:GREGORIAN
X-WR-CALNAME:researchseminars.org
BEGIN:VEVENT
SUMMARY:О. В. Капцов (Институт вычислительно
 го моделирования СО РАН)
DTSTART:20210408T110000Z
DTEND:20210408T120000Z
DTSTAMP:20260423T005818Z
UID:mmandim/19
DESCRIPTION:Title: <a href="https://researchseminars.org/talk/mmandim/19/"
 >Общие решения некоторых линейных волно
 вых уравнений  с переменными коэффициен
 тами</a>\nby О. В. Капцов (Институт вычислите
 льного моделирования СО РАН) as part of Mathematic
 al models and integration methods\n\n\nAbstract\nВ работе найд
 ены общие решения для некоторых классов 
 линейных волновых уравнений с переменны
 ми коэффициентами. Такие уравнения опис
 ывают колебания стержней\, акустические 
 волны\, а также к ним сводятся некоторые 
 модели газовой динамики. Для построения 
 решений используются преобразования ти
 па Леви\, которые являются дифференциаль
 ными подстановками первого порядка и их 
 итерациями. Приводятся конкретные приме
 ры общих решений\, зависящих от производ
 ных произвольных функций.\n
LOCATION:https://researchseminars.org/talk/mmandim/19/
END:VEVENT
END:VCALENDAR
