BEGIN:VCALENDAR
VERSION:2.0
PRODID:researchseminars.org
CALSCALE:GREGORIAN
X-WR-CALNAME:researchseminars.org
BEGIN:VEVENT
SUMMARY:A. P. Kiselev (St. Petersburg Department of V.A.Steklov Institute 
 of Mathematics of the Russian Academy of Sciences)
DTSTART:20260219T110000Z
DTEND:20260219T120000Z
DTSTAMP:20260423T005805Z
UID:mmandim/106
DESCRIPTION:Title: <a href="https://researchseminars.org/talk/mmandim/106/
 ">Solutions of the wave equation with arbitrary functions: relatively undi
 storted waves</a>\nby A. P. Kiselev (St. Petersburg Department of V.A.Stek
 lov Institute of Mathematics of the Russian Academy of Sciences) as part o
 f Mathematical models and integration methods\n\n\nAbstract\nSolutions of 
 the wave equation containing arbitrary functions have attracted the attent
 ion of researchers since the 18th century to the present day. Four such so
 lutions and some of their applications will be discussed.\n
LOCATION:https://researchseminars.org/talk/mmandim/106/
END:VEVENT
END:VCALENDAR
