BEGIN:VCALENDAR
VERSION:2.0
PRODID:researchseminars.org
CALSCALE:GREGORIAN
X-WR-CALNAME:researchseminars.org
BEGIN:VEVENT
SUMMARY:Mark Gross (Cambridge University)
DTSTART:20220727T103000Z
DTEND:20220727T113000Z
DTSTAMP:20260423T005731Z
UID:looijenga/8
DESCRIPTION:Title: <a href="https://researchseminars.org/talk/looijenga/8/
 ">Intrinsic Mirror Symmetry</a>\nby Mark Gross (Cambridge University) as p
 art of Mirror symmetry for Looijenga interiors and beyond\n\nAbstract: TBA
 \n
LOCATION:https://researchseminars.org/talk/looijenga/8/
END:VEVENT
END:VCALENDAR
