BEGIN:VCALENDAR
VERSION:2.0
PRODID:researchseminars.org
CALSCALE:GREGORIAN
X-WR-CALNAME:researchseminars.org
BEGIN:VEVENT
SUMMARY:Bernd Siebert (UT Austin)
DTSTART:20220726T103000Z
DTEND:20220726T113000Z
DTSTAMP:20260423T005742Z
UID:looijenga/5
DESCRIPTION:Title: <a href="https://researchseminars.org/talk/looijenga/5/
 ">Canonical wall structure</a>\nby Bernd Siebert (UT Austin) as part of Mi
 rror symmetry for Looijenga interiors and beyond\n\nAbstract: TBA\n
LOCATION:https://researchseminars.org/talk/looijenga/5/
END:VEVENT
END:VCALENDAR
